BEGIN:VCALENDAR
VERSION:2.0
PRODID:-//PASSOVER 2025 PROGRAMS IN EUROPE.✅✅✅✅✅✅ PESACH 2025 OLAM HOLIDAYS - ECPv4.6.5//NONSGML v1.0//EN
CALSCALE:GREGORIAN
METHOD:PUBLISH
X-WR-CALNAME:PASSOVER 2025 PROGRAMS IN EUROPE.✅✅✅✅✅✅ PESACH 2025 OLAM HOLIDAYS
X-ORIGINAL-URL:http://vip-pesach.com
X-WR-CALDESC:Events for PASSOVER 2025 PROGRAMS IN EUROPE.✅✅✅✅✅✅ PESACH 2025 OLAM HOLIDAYS
BEGIN:VEVENT
DTSTART;TZID=UTC+0:20171119T080000
DTEND;TZID=UTC+0:20190607T170000
DTSTAMP:20260422T125233
CREATED:20171119T100313Z
LAST-MODIFIED:20181210T112414Z
UID:68-1511078400-1559926800@vip-pesach.com
SUMMARY:PESACH 2019 IN SPAIN KOSHER FOR PASSOVER PROGRAMS IN EUROPE
DESCRIPTION:A Wonderful Pesach 2019 at The Best Negresco Spa **** \nSalou Costa Dorada Spain\nThe Perfect Glatt Kosher Passover Vacation 5779 in Europe #pesach2019 #passover2019\n http://olamholidays.com/ \nUK +44 (0) 203 318 2194  \nUSA +1 (0) 646 975 94 58 \nExceptional Program! Dream Destination! Sea View ! \nDirect flights from major European capitals to Barcelona Aiport. \n \nThe Warmest Passover 2018 in Europe .\nEnjoy the unique opportunity to celebrate Passover holiday in the idyllic setting of a beautiful destination. \nAccommodations:\nFull board- 3 meals a day\, Tea room\, wine & drink bar and other treats throughout the entire day.\nThe vacation package includes:\n10 nights\, 13 Nissan-23 Nissan\, March 29 -April 8\, 2018. \nArrive like a guest and leave like family ! \n « Glatt Kosher LeMehadrin » No kitniot\,No Gebrocht  Shmura Matza. \nLeave us to take care of you! \nJoin Olam Holidays with your family to enjoy a warm and festive holiday! \nLet Kosher Pesach 2018   be a relaxing experience for you and your loved ones in addition to a trip you will all remember.  \n »Because only the BEST is good enough for you! » \nhttp://olamholidays.com/\n  \nhttp://passover-vacations-2018.blogspot.co.il \nhttp://vip-pesach.com \nhttp://passover2019.com/ \n
URL:http://vip-pesach.com/event/pesach-2019-in-spain-kosher-for-passover-programs-in-europe
LOCATION:12-14 Carrer dels Replanells\, Salou\, CT\, 43840\, Espagne
CATEGORIES:Barcelone,clubs pessah,eden PESSAH prestige,hôtels cacher,hotels pessah,hôtels pessah,olam holidays,olamholidays,pessah 2019,pessah en espagne,pessah Espagne,pessah grece,sejour pessah,vacances pessah,vacances pessah 2019,voyager cacher
ATTACH;FMTTYPE=image/jpeg:http://vip-pesach.com/wp-content/uploads/2017/11/vacances-pessah-2018-olam-holidays-1.jpeg
END:VEVENT
END:VCALENDAR